BEGIN:VCALENDAR
VERSION:2.0
PRODID:-//Your Organization//EN
BEGIN:VEVENT
UID:69eb71f08a4c2@yourdomain.com
DTSTAMP:20260424T133648Z
DTSTART:20260425T140000
DTEND:20260425T220000
SUMMARY:Coldplace | Binks Yard\, Nottingham | FINAL TICKETS!
DESCRIPTION:The world's leading Coldplay tribute act returns to Binks Yard in Nottingham in April 2026. With support from tributes to The Killers and Keane! More info: https://www.skiddle.com/whats-on/Nottingham/Binks-Yard/Coldplace--Binks-Yard-Nottingham--FINAL-TICKETS/41592431/
LOCATION:Binks Yard\, 1 The Great Northern Cl
END:VEVENT
END:VCALENDAR