BEGIN:VCALENDAR
VERSION:2.0
PRODID:-//Your Organization//EN
BEGIN:VEVENT
UID:69e890aa1e066@yourdomain.com
DTSTAMP:20260422T091106Z
DTSTART:20260524T173000
DTEND:20260525T000000
SUMMARY:Fell Out Boy & Black Charade | Emo Republic | Athena
DESCRIPTION:The biggest day festival dedicated to pop punk and emo music is coming to the Athena in Leicester this May! More info: https://www.skiddle.com/whats-on/Leicester/Athena-Events-Venue/Fell-Out-Boy--Black-Charade--Emo-Republic--Athena/41927861/
LOCATION:Athena Events Venue\, Queen Street
END:VEVENT
END:VCALENDAR