BEGIN:VCALENDAR
VERSION:2.0
PRODID:-//Your Organization//EN
BEGIN:VEVENT
UID:69e8a88468ec8@yourdomain.com
DTSTAMP:20260422T105252Z
DTSTART:20260530T140000
DTEND:20260530T230000
SUMMARY:BASSHUNTER & MORE|Love the 90s Festival|Elvaston Castle\, Derby
DESCRIPTION:After multiple sell-out shows across the UK\, Love The 90s Festival is taking over Elvaston Castle for a night of pure 90s nostalgia! More info: https://www.skiddle.com/whats-on/Derby/Elvaston-Castle-Country-Park/BASSHUNTER--MORELove-the-90s-FestivalElvaston-Castle-Derby/41496480/
LOCATION:Elvaston Castle Country Park\, Borrowash Road\, Elvaston
END:VEVENT
END:VCALENDAR