BEGIN:VCALENDAR
VERSION:2.0
PRODID:-//Your Organization//EN
BEGIN:VEVENT
UID:69e8a63f5eb1b@yourdomain.com
DTSTAMP:20260422T104311Z
DTSTART:20260605T160000
DTEND:20260605T220000
SUMMARY:Nottingham's Summer Fiesta 2026 | VAMOS X LA BOMBA | Binks Yard
DESCRIPTION:International DJs and live mariachi Band | Carnival Dancers | Stilt Walkers | Fire dancers | Hispanic street food and so much more! More info: https://www.skiddle.com/whats-on/Nottingham/Binks-Yard/Nottinghams-Summer-Fiesta-2026--VAMOS-X-LA-BOMBA--Binks-Yard/41995753/
LOCATION:Binks Yard\, 1 The Great Northern Cl
END:VEVENT
END:VCALENDAR