BEGIN:VCALENDAR
VERSION:2.0
PRODID:-//Your Organization//EN
BEGIN:VEVENT
UID:69e88c666bba0@yourdomain.com
DTSTAMP:20260422T085254Z
DTSTART:20260619T183000
DTEND:20260619T220000
SUMMARY:MacBusted | Binks Yard\, Nottingham
DESCRIPTION:This June\, the tribute band MacBusted performs the biggest hits to McFly\, Busted and McBusted at Binks Yard\, Nottingham! More info: https://www.skiddle.com/whats-on/Nottingham/Binks-Yard/MacBusted--Binks-Yard-Nottingham/41961033/
LOCATION:Binks Yard\, 1 The Great Northern Cl
END:VEVENT
END:VCALENDAR