BEGIN:VCALENDAR
VERSION:2.0
PRODID:-//Your Organization//EN
BEGIN:VEVENT
UID:69e8b28a4f3ac@yourdomain.com
DTSTAMP:20260422T113538Z
DTSTART:20260620T130000
DTEND:20260620T220000
SUMMARY:Live In The Yard Music Festival | Binks Yard
DESCRIPTION:Get ready for a huge day of live music and vibes at Binks Yard Terrace on Saturday\, 20th June with some of the No.1 Tribute Bands in the world! More info: https://www.skiddle.com/whats-on/Nottingham/Binks-Yard/Live-In-The-Yard-Music-Festival--Binks-Yard/42081964/
LOCATION:Binks Yard\, 1 The Great Northern Cl
END:VEVENT
END:VCALENDAR