BEGIN:VCALENDAR
VERSION:2.0
PRODID:-//Your Organization//EN
BEGIN:VEVENT
UID:69e88f6d647a0@yourdomain.com
DTSTAMP:20260422T090549Z
DTSTART:20260704T140000
DTEND:20260704T220000
SUMMARY:Pop Republic Fest | Binks Yard\, Nottingham
DESCRIPTION:Pop Republic Fest lands at Binks Yard with world-renowned pop stars\, iconic anthems\, huge sing-alongs and ultimate day party vibes. More info: https://www.skiddle.com/whats-on/Nottingham/Binks-Yard/Pop-Republic-Fest--Binks-Yard-Nottingham/41911503/
LOCATION:Binks Yard\, 1 The Great Northern Cl
END:VEVENT
END:VCALENDAR