BEGIN:VCALENDAR
VERSION:2.0
PRODID:-//Your Organization//EN
BEGIN:VEVENT
UID:69e88e313e92c@yourdomain.com
DTSTAMP:20260422T090033Z
DTSTART:20260725T140000
DTEND:20260725T220000
SUMMARY:GOK WAN\, DANNY BEARD Pride Fest Live 2026!
DESCRIPTION:Pride Fest Live is coming in July 2026\, and we cannot wait! Pride 2026 won't be one to miss! More info: https://www.skiddle.com/festivals/groovebox-pride-festival/
LOCATION:Binks Yard\, 1 The Great Northern Cl
END:VEVENT
END:VCALENDAR