BEGIN:VCALENDAR
VERSION:2.0
PRODID:-//Your Organization//EN
BEGIN:VEVENT
UID:69e8a15f28f6c@yourdomain.com
DTSTAMP:20260422T102223Z
DTSTART:20260711T170000
DTEND:20260711T223000
SUMMARY:CLAIRE RICHARDS\, LOUISE & MORE| Love the 90s Festival |Dreamland
DESCRIPTION:After multiple sell-out shows across the UK\, Love The 90s Festival is taking over Dreamland\, Margate for a day of pure 90s nostalgia! More info: https://www.skiddle.com/whats-on/Margate/Dreamland/CLAIRE-RICHARDS-LOUISE--MORE-Love-the-90s-Festival-Dreamland/42084780/
LOCATION:Dreamland\, Front Doors off Hall By The Sea Road. 49-51 Marine Terrace\,
END:VEVENT
END:VCALENDAR