BEGIN:VCALENDAR
VERSION:2.0
PRODID:-//Your Organization//EN
BEGIN:VEVENT
UID:69e8a792d7897@yourdomain.com
DTSTAMP:20260422T104850Z
DTSTART:20260828T180000
DTEND:20260828T223000
SUMMARY:The Bootleg Beatles | Keel Square\, Sunderland
DESCRIPTION:The world's No.1 Beatles tribute act is coming to Keel Square for the Summer Series in the square in Sunderland. More info: https://www.skiddle.com/whats-on/Sunderland/Keel-Square/The-Bootleg-Beatles--Keel-Square-Sunderland/42092999/
LOCATION:Keel Square\, Keel Square\, 278 High Street West
END:VEVENT
END:VCALENDAR