BEGIN:VCALENDAR
VERSION:2.0
PRODID:-//Your Organization//EN
BEGIN:VEVENT
UID:69e8a67d4f36e@yourdomain.com
DTSTAMP:20260422T104413Z
DTSTART:19700101T000000
DTEND:19700101T000000
SUMMARY:Road to Nashville Outdoor Fest |Project House | LAST 200 TICKETS
DESCRIPTION:Hot off a run of sell-out shows\, The Road to Nashville is heading straight for Leeds -don't miss the ride! More info: https://www.skiddle.com/whats-on/Leeds/Project-House/Road-to-Nashville-Outdoor-Fest-Project-House--LAST-200-TICKETS/42125198/
LOCATION:Project House\, Project House
END:VEVENT
END:VCALENDAR