BEGIN:VCALENDAR
VERSION:2.0
PRODID:-//Your Organization//EN
BEGIN:VEVENT
UID:69e8a853331fe@yourdomain.com
DTSTAMP:20260422T105203Z
DTSTART:19700101T000000
DTEND:19700101T000000
SUMMARY:Road to Nashville Outdoor Festival | Eutopia\, Barking
DESCRIPTION:After a string of sold-out shows across the UK\, The Road to Nashville is bringing its country magic to Eutopia Warehouse in Barking! More info: https://www.skiddle.com/whats-on/Ilford/Eutopia-Warehouse/Road-to-Nashville-Outdoor-Festival--Eutopia-Barking/41941623/
LOCATION:Eutopia Warehouse\, 42A River Road
END:VEVENT
END:VCALENDAR