BEGIN:VCALENDAR
VERSION:2.0
PRODID:-//Your Organization//EN
BEGIN:VEVENT
UID:69e4e9fd11267@yourdomain.com
DTSTAMP:20260419T144309Z
DTSTART:19700101T000000
DTEND:19700101T000000
SUMMARY:Girls Night Out | Binks Yard\, Nottingham
DESCRIPTION:Girls Night Out hits Binks Yard this May! Live tributes to Spice Girls\, Beyonce\, Robbie Williams & so much more! More info: https://www.skiddle.com/whats-on/Nottingham/Binks-Yard/Girls-Night-Out--Binks-Yard-Nottingham/42151687/
LOCATION:Binks Yard\, 1 The Great Northern Cl
END:VEVENT
END:VCALENDAR