BEGIN:VCALENDAR
VERSION:2.0
PRODID:-//Your Organization//EN
BEGIN:VEVENT
UID:69e8a5ba2d0a0@yourdomain.com
DTSTAMP:20260422T104058Z
DTSTART:19700101T000000
DTEND:19700101T000000
SUMMARY:Road to Nashville Outdoor Festival | Keele SU
DESCRIPTION:After a string of sold-out shows across the UK\, The Road to Nashville is bringing its country magic to Keele SU in Stoke! More info: https://www.skiddle.com/whats-on/Newcastle-under-lyme/Keele-SU-%28Keele-University-Students%27-Union%29/Road-to-Nashville-Outdoor-Festival--Keele-SU/42173230/
LOCATION:Keele SU (Keele University Students' Union)\, Keele University\, Keele Rd\, Newcastle-under-Lyme
END:VEVENT
END:VCALENDAR