BEGIN:VCALENDAR
VERSION:2.0
PRODID:-//Your Organization//EN
BEGIN:VEVENT
UID:69eb545c702d7@yourdomain.com
DTSTAMP:20260424T113036Z
DTSTART:19700101T000000
DTEND:19700101T000000
SUMMARY:Road to Nashville Outdoor Festival | Tileyard\, Wakefield
DESCRIPTION:Following a run of hugely successful\, sell-out shows\, The Road to Nashville is heading to Wakefield! More info: https://www.skiddle.com/whats-on/Wakefield/Tileyard-North/Road-to-Nashville-Outdoor-Festival--Tileyard-Wakefield/42286156/
LOCATION:Tileyard North\, Carding Shed
END:VEVENT
END:VCALENDAR