BEGIN:VCALENDAR
VERSION:2.0
PRODID:-//Your Organization//EN
BEGIN:VEVENT
UID:69e8a6775cbb9@yourdomain.com
DTSTAMP:20260422T104407Z
DTSTART:19700101T000000
DTEND:19700101T000000
SUMMARY:Road to Nashville Outdoor Festival | SteelYard
DESCRIPTION:After a series of successful SOLD OUT shows\, The Road to Nashville is returning to SteelYard for a second HUGE country takeover! More info: https://www.skiddle.com/whats-on/Sheffield/SYSheffield-%28Steel-Yard%29/Road-to-Nashville-Outdoor-Festival--SteelYard/42332767/
LOCATION:SYSheffield (Steel Yard)\, SYSHEFFIELD\, Bardwell Rd\, Neepsend\, Sheffield
END:VEVENT
END:VCALENDAR